BEGIN:VCALENDAR
VERSION:2.0
PRODID:-//demosphere.net//NONSGML kigkonsult.se iCalcreator 2.22.1//
METHOD:REQUEST
X-WR-TIMEZONE:Europe/Paris
BEGIN:VEVENT
UID:https://rennes.demosphere.net/rdv/19510
DTSTAMP:20260427T181500Z
DESCRIPTION:plus d'infos sur : https://rennes.demosphere.net/rdv/19510
DTSTART:20260427T181500Z
DTEND:20260427T191500Z
GEO:+48.102396;-1.674363
LOCATION:Rennes\, \nCinéma Arvor\, 11 Rue de Châtillon\, 35000 Rennes
SUMMARY:Projection rencontre Une lugar mas grande!
URL:https://rennes.demosphere.net/rdv/19510
END:VEVENT
END:VCALENDAR
