BEGIN:VCALENDAR
VERSION:2.0
PRODID:-//demosphere.net//NONSGML kigkonsult.se iCalcreator 2.22.1//
METHOD:REQUEST
X-WR-TIMEZONE:Europe/Paris
BEGIN:VEVENT
UID:https://rennes.demosphere.net/rdv/19511
DTSTAMP:20260427T160000Z
DESCRIPTION:plus d'infos sur : https://rennes.demosphere.net/rdv/19511
DTSTART:20260427T160000Z
DTEND:20260427T170000Z
GEO:+48.51418;-2.765835
LOCATION:Saint-Brieuc\, \nLa serre \nChemin de la planche \n22000 Saint-Bri
 euc
SUMMARY:Discussion S’armer “pour se défendre” ? Combattre l'impérialisme so
 us toutes ses formes
URL:https://rennes.demosphere.net/rdv/19511
END:VEVENT
END:VCALENDAR
