BEGIN:VCALENDAR
VERSION:2.0
PRODID:-//demosphere.net//NONSGML kigkonsult.se iCalcreator 2.22.1//
METHOD:REQUEST
X-WR-TIMEZONE:Europe/Paris
BEGIN:VEVENT
UID:https://rennes.demosphere.net/rdv/19512
DTSTAMP:20260501T093000Z
DESCRIPTION:plus d'infos sur : https://rennes.demosphere.net/rdv/19512
DTSTART:20260501T093000Z
DTEND:20260501T103000Z
LOCATION:Rennes\, \nLieu exact à définir
SUMMARY:Manif Le TRAVAIL est une PRISON\, syndicats & politiques les MATONS
URL:https://rennes.demosphere.net/rdv/19512
END:VEVENT
END:VCALENDAR
