BEGIN:VCALENDAR
VERSION:2.0
PRODID:-//demosphere.net//NONSGML kigkonsult.se iCalcreator 2.22.1//
METHOD:REQUEST
X-WR-TIMEZONE:Europe/Paris
BEGIN:VEVENT
UID:https://rennes.demosphere.net/rdv/19513
DTSTAMP:20260518T160000Z
DESCRIPTION:plus d'infos sur : https://rennes.demosphere.net/rdv/19513
DTSTART:20260518T160000Z
DTEND:20260518T170000Z
GEO:+48.107139;-1.687763
LOCATION:Rennes\, \nOmbres Electriques \n10 rue des trente \nRennes
SUMMARY:Apéro-débat du STAR - L'usure du corps dans le travail
URL:https://rennes.demosphere.net/rdv/19513
END:VEVENT
END:VCALENDAR
