BEGIN:VCALENDAR
VERSION:2.0
PRODID:-//demosphere.net//NONSGML kigkonsult.se iCalcreator 2.22.1//
METHOD:REQUEST
X-WR-TIMEZONE:Europe/Paris
BEGIN:VEVENT
UID:https://rennes.demosphere.net/rdv/19514
DTSTAMP:20260425T123000Z
DESCRIPTION:plus d'infos sur : https://rennes.demosphere.net/rdv/19514
DTSTART:20260425T123000Z
DTEND:20260425T133000Z
GEO:+48.108474;-1.69514
LOCATION:Rennes\, \nMail François Mitterand \nRennes
SUMMARY:Atelier 'Féminisme & extrême droite'
URL:https://rennes.demosphere.net/rdv/19514
END:VEVENT
END:VCALENDAR
