BEGIN:VCALENDAR
VERSION:2.0
PRODID:-//demosphere.net//NONSGML kigkonsult.se iCalcreator 2.22.1//
METHOD:REQUEST
X-WR-TIMEZONE:Europe/Paris
BEGIN:VEVENT
UID:https://rennes.demosphere.net/rdv/19515
DTSTAMP:20260502T160000Z
DESCRIPTION:plus d'infos sur : https://rennes.demosphere.net/rdv/19515
DTSTART:20260502T160000Z
DTEND:20260502T170000Z
GEO:+48.344784;-1.190128
LOCATION:Fougères\, \nLes Oiseaux de la Tempête \n5 place Edmond Herbert \n
 35300 Fougères
SUMMARY:Drag-Show et Spectacle tous publics (DOUCEURS) aux Oiseaux de la Te
 mpête
URL:https://rennes.demosphere.net/rdv/19515
END:VEVENT
END:VCALENDAR
