BEGIN:VCALENDAR
VERSION:2.0
PRODID:-//demosphere.net//NONSGML kigkonsult.se iCalcreator 2.22.1//
METHOD:REQUEST
X-WR-TIMEZONE:Europe/Paris
BEGIN:VEVENT
UID:https://rennes.demosphere.net/rdv/19516
DTSTAMP:20260503T160000Z
DESCRIPTION:plus d'infos sur : https://rennes.demosphere.net/rdv/19516
DTSTART:20260503T160000Z
DTEND:20260503T170000Z
GEO:+48.344784;-1.190128
LOCATION:Fougères\, \nLes Oiseaux de la Tempête \n5 place Edmond Herbert \n
 35300 Fougères
SUMMARY:Récit Décalé & Spectacle politique (DOULEURS) inspiré du Drag
URL:https://rennes.demosphere.net/rdv/19516
END:VEVENT
END:VCALENDAR
