BEGIN:VCALENDAR
VERSION:2.0
PRODID:-//demosphere.net//NONSGML kigkonsult.se iCalcreator 2.22.1//
METHOD:REQUEST
X-WR-TIMEZONE:Europe/Paris
BEGIN:VEVENT
UID:https://rennes.demosphere.net/rdv/19517
DTSTAMP:20260509T160000Z
DESCRIPTION:plus d'infos sur : https://rennes.demosphere.net/rdv/19517
DTSTART:20260509T160000Z
DTEND:20260509T170000Z
GEO:+48.344784;-1.190128
LOCATION:Fougères\, \nLes Oiseaux de la Tempête \n5 place Edmond Herbert \n
 35300 Fougères
SUMMARY:Instant chorégraphique & VAPEURS\, show Politico-Drag aux Oiseaux d
 e la Tempête
URL:https://rennes.demosphere.net/rdv/19517
END:VEVENT
END:VCALENDAR
